
BEGIN:VCALENDAR
VERSION:2.0
PRODID:-//First Responders Resiliency, Inc.  - ECPv6.15.20//NONSGML v1.0//EN
CALSCALE:GREGORIAN
METHOD:PUBLISH
X-WR-CALNAME:First Responders Resiliency, Inc. 
X-ORIGINAL-URL:https://resiliency1st.org
X-WR-CALDESC:Events for First Responders Resiliency, Inc. 
REFRESH-INTERVAL;VALUE=DURATION:PT1H
X-Robots-Tag:noindex
X-PUBLISHED-TTL:PT1H
BEGIN:VTIMEZONE
TZID:America/Los_Angeles
BEGIN:DAYLIGHT
TZOFFSETFROM:-0800
TZOFFSETTO:-0700
TZNAME:PDT
DTSTART:20180311T100000
END:DAYLIGHT
BEGIN:STANDARD
TZOFFSETFROM:-0700
TZOFFSETTO:-0800
TZNAME:PST
DTSTART:20181104T090000
END:STANDARD
BEGIN:DAYLIGHT
TZOFFSETFROM:-0800
TZOFFSETTO:-0700
TZNAME:PDT
DTSTART:20190310T100000
END:DAYLIGHT
BEGIN:STANDARD
TZOFFSETFROM:-0700
TZOFFSETTO:-0800
TZNAME:PST
DTSTART:20191103T090000
END:STANDARD
BEGIN:DAYLIGHT
TZOFFSETFROM:-0800
TZOFFSETTO:-0700
TZNAME:PDT
DTSTART:20200308T100000
END:DAYLIGHT
BEGIN:STANDARD
TZOFFSETFROM:-0700
TZOFFSETTO:-0800
TZNAME:PST
DTSTART:20201101T090000
END:STANDARD
BEGIN:DAYLIGHT
TZOFFSETFROM:-0800
TZOFFSETTO:-0700
TZNAME:PDT
DTSTART:20210314T100000
END:DAYLIGHT
BEGIN:STANDARD
TZOFFSETFROM:-0700
TZOFFSETTO:-0800
TZNAME:PST
DTSTART:20211107T090000
END:STANDARD
END:VTIMEZONE
BEGIN:VEVENT
DTSTART;TZID=America/Los_Angeles:20200229T090000
DTEND;TZID=America/Los_Angeles:20200229T140000
DTSTAMP:20260421T113440
CREATED:20200117T230442Z
LAST-MODIFIED:20250313T031448Z
UID:10000480-1582966800-1582984800@resiliency1st.org
SUMMARY:Family Session - Westerbeke Conference
DESCRIPTION:The First Responders Resiliency\, Inc. Family Program was created by first responder families\, for first\nresponder families. \nUntil now\, there has been little to no training for families of first responders. Much of the care for first\nresponders has been geared towards peer counseling\, medication\, and talk therapy – all reactive approaches. \nThis training provides the insight and information to first responder families that allows loved ones to be an integral part of their first responders’ professional and personal resiliency and success. \nLunch is provided. \nBring any of your kids who are 16 years of age or older.
URL:https://resiliency1st.org/event/family-session-westerbeke-conference-2/
LOCATION:Westerbeke Ranch\, 2300 Grove Street\, Sonoma\, CA\, 95476\, United States
CATEGORIES:Family Training,Training
END:VEVENT
BEGIN:VEVENT
DTSTART;TZID=America/Los_Angeles:20200227T160000
DTEND;TZID=America/Los_Angeles:20200229T160000
DTSTAMP:20260421T113440
CREATED:20191105T203912Z
LAST-MODIFIED:20250313T025351Z
UID:10000416-1582819200-1582992000@resiliency1st.org
SUMMARY:Resiliency Conference\, Sonoma
DESCRIPTION:This 3-day conference will address the psychological\, neurological\, physical\, emotional\, and relational impacts of\nstress and trauma exposure affecting first responders. \nProviding science-based education\, skills\, techniques and tools\nthat have profound impacts on stress reduction and management. \nFRRI utilizes proactive modalities with a holistic approach to educate first responders in the art of professional\nand personal resilience. \nFamily session is held separately on last day.
URL:https://resiliency1st.org/event/resiliency-conference-sonoma-2-2/
LOCATION:Westerbeke Ranch\, 2300 Grove Street\, Sonoma\, CA\, 95476\, United States
CATEGORIES:First Responders,Training
ATTACH;FMTTYPE=image/jpeg:https://resiliency1st.org/wp-content/uploads/2019/11/2019.07.12-Westerbeke.jpg
END:VEVENT
BEGIN:VEVENT
DTSTART;TZID=America/Los_Angeles:20191120T090000
DTEND;TZID=America/Los_Angeles:20191120T140000
DTSTAMP:20260421T113440
CREATED:20190812T222813Z
LAST-MODIFIED:20250313T030458Z
UID:10000446-1574240400-1574258400@resiliency1st.org
SUMMARY:Family Resiliency Training\, Sonoma
DESCRIPTION:Lunch is provided. \nBring any of your kids who are 16 years of age or older.
URL:https://resiliency1st.org/event/family-resiliency-training-sonoma-2/
LOCATION:Westerbeke Ranch\, 2300 Grove Street\, Sonoma\, CA\, 95476\, United States
CATEGORIES:Family Training,Training
ATTACH;FMTTYPE=image/jpeg:https://resiliency1st.org/wp-content/uploads/2019/08/Family-Resiliency-stop-PTSD-Conference-2019.jpg
END:VEVENT
BEGIN:VEVENT
DTSTART;TZID=America/Los_Angeles:20191118T113000
DTEND;TZID=America/Los_Angeles:20191120T150000
DTSTAMP:20260421T113440
CREATED:20190812T214130Z
LAST-MODIFIED:20250313T024524Z
UID:10000384-1574076600-1574262000@resiliency1st.org
SUMMARY:Resiliency Conference\, Sonoma
DESCRIPTION:Content is protected.
URL:https://resiliency1st.org/event/resiliency-conference-sonoma-3/
LOCATION:Westerbeke Ranch\, 2300 Grove Street\, Sonoma\, CA\, 95476\, United States
CATEGORIES:First Responders,Training
END:VEVENT
BEGIN:VEVENT
DTSTART;TZID=America/Los_Angeles:20190721T080000
DTEND;TZID=America/Los_Angeles:20190721T140000
DTSTAMP:20260421T113440
CREATED:20190613T173647Z
LAST-MODIFIED:20250313T024908Z
UID:10000396-1563696000-1563717600@resiliency1st.org
SUMMARY:Family Resiliency Training\, Sonoma\, 7/21
DESCRIPTION:Lunch Provided.\nYour spouse is not required to attend.
URL:https://resiliency1st.org/event/family-resiliency-training-sonoma-7-21-2/
LOCATION:Westerbeke Ranch\, 2300 Grove Street\, Sonoma\, CA\, 95476\, United States
CATEGORIES:Family Training
ATTACH;FMTTYPE=image/jpeg:https://resiliency1st.org/wp-content/uploads/2019/05/Westerbeke-Resiliency-PTSD-Conference-4.jpg
END:VEVENT
BEGIN:VEVENT
DTSTART;TZID=America/Los_Angeles:20190719T150000
DTEND;TZID=America/Los_Angeles:20190721T150000
DTSTAMP:20260421T113440
CREATED:20190520T220931Z
LAST-MODIFIED:20250313T025133Z
UID:10000412-1563548400-1563721200@resiliency1st.org
SUMMARY:Resiliency Training\, Sonoma\, 7/19
DESCRIPTION:[vc_row][vc_column][movedo_gallery ids=”3008\,3009\,3010\,3011\,3012\,3013″][/movedo_gallery][/vc_column][/vc_row]
URL:https://resiliency1st.org/event/first-responder-conference-westerbeke-ranch-7-19-2/
LOCATION:Westerbeke Ranch\, 2300 Grove Street\, Sonoma\, CA\, 95476\, United States
CATEGORIES:First Responders,Training
ATTACH;FMTTYPE=image/jpeg:https://resiliency1st.org/wp-content/uploads/2019/05/Westerbeke-Resiliency-PTSD-Conference-3.jpg
END:VEVENT
END:VCALENDAR