
BEGIN:VCALENDAR
VERSION:2.0
PRODID:-//First Responders Resiliency, Inc.  - ECPv6.15.20//NONSGML v1.0//EN
CALSCALE:GREGORIAN
METHOD:PUBLISH
X-WR-CALNAME:First Responders Resiliency, Inc. 
X-ORIGINAL-URL:https://resiliency1st.org
X-WR-CALDESC:Events for First Responders Resiliency, Inc. 
REFRESH-INTERVAL;VALUE=DURATION:PT1H
X-Robots-Tag:noindex
X-PUBLISHED-TTL:PT1H
BEGIN:VTIMEZONE
TZID:America/Los_Angeles
BEGIN:DAYLIGHT
TZOFFSETFROM:-0800
TZOFFSETTO:-0700
TZNAME:PDT
DTSTART:20190310T100000
END:DAYLIGHT
BEGIN:STANDARD
TZOFFSETFROM:-0700
TZOFFSETTO:-0800
TZNAME:PST
DTSTART:20191103T090000
END:STANDARD
BEGIN:DAYLIGHT
TZOFFSETFROM:-0800
TZOFFSETTO:-0700
TZNAME:PDT
DTSTART:20200308T100000
END:DAYLIGHT
BEGIN:STANDARD
TZOFFSETFROM:-0700
TZOFFSETTO:-0800
TZNAME:PST
DTSTART:20201101T090000
END:STANDARD
BEGIN:DAYLIGHT
TZOFFSETFROM:-0800
TZOFFSETTO:-0700
TZNAME:PDT
DTSTART:20210314T100000
END:DAYLIGHT
BEGIN:STANDARD
TZOFFSETFROM:-0700
TZOFFSETTO:-0800
TZNAME:PST
DTSTART:20211107T090000
END:STANDARD
END:VTIMEZONE
BEGIN:VEVENT
DTSTART;TZID=America/Los_Angeles:20200129T110000
DTEND;TZID=America/Los_Angeles:20200129T130000
DTSTAMP:20260421T041714
CREATED:20200903T233704Z
LAST-MODIFIED:20250313T025753Z
UID:10000425-1580295600-1580302800@resiliency1st.org
SUMMARY:Rotary Speaking Event
DESCRIPTION:
URL:https://resiliency1st.org/event/rotary-speaking-event-2/
LOCATION:Rotary Club of Sonoma Valley\, 450 W Spain St.\, Sonoma\, CA\, 95476
CATEGORIES:Private Speaking Engagement,Training
END:VEVENT
END:VCALENDAR