
BEGIN:VCALENDAR
VERSION:2.0
PRODID:-//First Responders Resiliency, Inc.  - ECPv6.15.20//NONSGML v1.0//EN
CALSCALE:GREGORIAN
METHOD:PUBLISH
X-WR-CALNAME:First Responders Resiliency, Inc. 
X-ORIGINAL-URL:https://resiliency1st.org
X-WR-CALDESC:Events for First Responders Resiliency, Inc. 
REFRESH-INTERVAL;VALUE=DURATION:PT1H
X-Robots-Tag:noindex
X-PUBLISHED-TTL:PT1H
BEGIN:VTIMEZONE
TZID:America/Los_Angeles
BEGIN:DAYLIGHT
TZOFFSETFROM:-0800
TZOFFSETTO:-0700
TZNAME:PDT
DTSTART:20180311T100000
END:DAYLIGHT
BEGIN:STANDARD
TZOFFSETFROM:-0700
TZOFFSETTO:-0800
TZNAME:PST
DTSTART:20181104T090000
END:STANDARD
BEGIN:DAYLIGHT
TZOFFSETFROM:-0800
TZOFFSETTO:-0700
TZNAME:PDT
DTSTART:20190310T100000
END:DAYLIGHT
BEGIN:STANDARD
TZOFFSETFROM:-0700
TZOFFSETTO:-0800
TZNAME:PST
DTSTART:20191103T090000
END:STANDARD
BEGIN:DAYLIGHT
TZOFFSETFROM:-0800
TZOFFSETTO:-0700
TZNAME:PDT
DTSTART:20200308T100000
END:DAYLIGHT
BEGIN:STANDARD
TZOFFSETFROM:-0700
TZOFFSETTO:-0800
TZNAME:PST
DTSTART:20201101T090000
END:STANDARD
END:VTIMEZONE
BEGIN:VEVENT
DTSTART;TZID=America/Los_Angeles:20191206T180000
DTEND;TZID=America/Los_Angeles:20191206T220000
DTSTAMP:20260421T093759
CREATED:20191205T184905Z
LAST-MODIFIED:20250313T030458Z
UID:10000444-1575655200-1575669600@resiliency1st.org
SUMMARY:Jump 'n' Jam For First Responders
DESCRIPTION:First Responders and their families are Free. \nMore Details
URL:https://resiliency1st.org/event/jump-n-jam-for-first-responders-2/
LOCATION:Rebounderz Rohnert Park\, 555 Rohnert Park Expressway West\, Rohnert Park\, CA\, United States
CATEGORIES:Events,Fundraiser,Training
ATTACH;FMTTYPE=image/jpeg:https://resiliency1st.org/wp-content/uploads/2019/12/Rebounderz-Resiliency.jpg
END:VEVENT
END:VCALENDAR