
BEGIN:VCALENDAR
VERSION:2.0
PRODID:-//First Responders Resiliency, Inc.  - ECPv6.15.20//NONSGML v1.0//EN
CALSCALE:GREGORIAN
METHOD:PUBLISH
X-ORIGINAL-URL:https://resiliency1st.org
X-WR-CALDESC:Events for First Responders Resiliency, Inc. 
REFRESH-INTERVAL;VALUE=DURATION:PT1H
X-Robots-Tag:noindex
X-PUBLISHED-TTL:PT1H
BEGIN:VTIMEZONE
TZID:America/Los_Angeles
BEGIN:DAYLIGHT
TZOFFSETFROM:-0800
TZOFFSETTO:-0700
TZNAME:PDT
DTSTART:20180311T100000
END:DAYLIGHT
BEGIN:STANDARD
TZOFFSETFROM:-0700
TZOFFSETTO:-0800
TZNAME:PST
DTSTART:20181104T090000
END:STANDARD
BEGIN:DAYLIGHT
TZOFFSETFROM:-0800
TZOFFSETTO:-0700
TZNAME:PDT
DTSTART:20190310T100000
END:DAYLIGHT
BEGIN:STANDARD
TZOFFSETFROM:-0700
TZOFFSETTO:-0800
TZNAME:PST
DTSTART:20191103T090000
END:STANDARD
BEGIN:DAYLIGHT
TZOFFSETFROM:-0800
TZOFFSETTO:-0700
TZNAME:PDT
DTSTART:20200308T100000
END:DAYLIGHT
BEGIN:STANDARD
TZOFFSETFROM:-0700
TZOFFSETTO:-0800
TZNAME:PST
DTSTART:20201101T090000
END:STANDARD
END:VTIMEZONE
BEGIN:VEVENT
DTSTART;TZID=America/Los_Angeles:20190520T080000
DTEND;TZID=America/Los_Angeles:20190520T120000
DTSTAMP:20260421T211013
CREATED:20190827T225831Z
LAST-MODIFIED:20250313T023246Z
UID:10000354-1558339200-1558353600@resiliency1st.org
SUMMARY:Cumberland County Department of Public Safety
DESCRIPTION:[vc_row][vc_column][vc_column_text]4-hour training for the Cumberland County Department of Public Safety Training.[/vc_column_text][/vc_column][/vc_row][vc_row][vc_column][movedo_gallery ids=”2977\,2976\,2975\,2974\,2973\,2972\,2971″][/movedo_gallery][/vc_column][/vc_row]
URL:https://resiliency1st.org/event/cumberland-county-department-of-public-safety-2/
LOCATION:Cumberland County Department of Public Safety\, 1 Public Safety Dr.\, Carlisle\, pa\, 17013
CATEGORIES:First Responders,Training
ATTACH;FMTTYPE=image/jpeg:https://resiliency1st.org/wp-content/uploads/2019/08/Cumberland-County-Department-of-Public-Safety-Training.-6.jpg
END:VEVENT
END:VCALENDAR