
BEGIN:VCALENDAR
VERSION:2.0
PRODID:-//First Responders Resiliency, Inc.  - ECPv6.15.20//NONSGML v1.0//EN
CALSCALE:GREGORIAN
METHOD:PUBLISH
X-WR-CALNAME:First Responders Resiliency, Inc. 
X-ORIGINAL-URL:https://resiliency1st.org
X-WR-CALDESC:Events for First Responders Resiliency, Inc. 
REFRESH-INTERVAL;VALUE=DURATION:PT1H
X-Robots-Tag:noindex
X-PUBLISHED-TTL:PT1H
BEGIN:VTIMEZONE
TZID:America/Los_Angeles
BEGIN:DAYLIGHT
TZOFFSETFROM:-0800
TZOFFSETTO:-0700
TZNAME:PDT
DTSTART:20180311T100000
END:DAYLIGHT
BEGIN:STANDARD
TZOFFSETFROM:-0700
TZOFFSETTO:-0800
TZNAME:PST
DTSTART:20181104T090000
END:STANDARD
BEGIN:DAYLIGHT
TZOFFSETFROM:-0800
TZOFFSETTO:-0700
TZNAME:PDT
DTSTART:20190310T100000
END:DAYLIGHT
BEGIN:STANDARD
TZOFFSETFROM:-0700
TZOFFSETTO:-0800
TZNAME:PST
DTSTART:20191103T090000
END:STANDARD
BEGIN:DAYLIGHT
TZOFFSETFROM:-0800
TZOFFSETTO:-0700
TZNAME:PDT
DTSTART:20200308T100000
END:DAYLIGHT
BEGIN:STANDARD
TZOFFSETFROM:-0700
TZOFFSETTO:-0800
TZNAME:PST
DTSTART:20201101T090000
END:STANDARD
END:VTIMEZONE
BEGIN:VEVENT
DTSTART;VALUE=DATE:20190519
DTEND;VALUE=DATE:20190525
DTSTAMP:20260421T223553
CREATED:20190131T050719Z
LAST-MODIFIED:20250313T023252Z
UID:10000356-1558224000-1558742399@resiliency1st.org
SUMMARY:ICISF 15th World Congress
DESCRIPTION: International Critical Incident Stress Foundation\n                                                                                                       15th WORLD CONGRESS\nFirst Responders Resiliency\, Inc. will be presenting a 3 1/2 hour class:\n“Putting PTSD Out of Business” class 0800-1145 on  May 21st
URL:https://resiliency1st.org/event/icisf-15th-world-congress-2/
LOCATION:Baltimore Marriott Waterfront                            700 Aliceanna Street Baltimore\, MD 21202
END:VEVENT
END:VCALENDAR